BEGIN:VCALENDAR
VERSION:2.0
PRODID:-//Stratis iCal API//FR
CALSCALE:GREGORIAN
X-WR-CALNAME:Découverte des oiseaux hivernants du Parc des Rives du Var à son estuaire
BEGIN:VEVENT
UID:event-4931
SUMMARY:Découverte des oiseaux hivernants du Parc des Rives du Var à son estuaire
DESCRIPTION:Tout autour de la planète  le mois de février est dédié à la protection des zones humides. Pour cette occasion  la Ligue pour la Protection des Oiseaux vous accueille à l’embouchure du Var pour observer de nombreuses espèces d’oiseaux venus migrer vers des régions au climat plus clément comme le territoire des Alpes-Maritimes. Ces oiseaux trouvent là des ressources alimentaires suffisantes et la sécurité pour passer la saison.     Animation réalisée par la Ligue pour la Protection des Oiseaux.
DTSTAMP:20241218T101023Z
DTSTART:20250219T083000Z
DTEND:20250219T110000Z
STATUS:CONFIRMED
SEQUENCE:4
BEGIN:VALARM
TRIGGER:-PT30M
DESCRIPTION:Découverte des oiseaux hivernants du Parc des Rives du Var à son estuaire
ACTION:DISPLAY
END:VALARM
END:VEVENT
END:VCALENDAR