BEGIN:VCALENDAR
VERSION:2.0
PRODID:-//Stratis iCal API//FR
CALSCALE:GREGORIAN
X-WR-CALNAME:Micro-aventure : Zone humide à défendre 
BEGIN:VEVENT
UID:event-4932
SUMMARY:Micro-aventure : Zone humide à défendre 
DESCRIPTION:La Ligue pour la protection des oiseaux vous invite à résoudre une enquête naturaliste portant sur la protection de l’étang de Fontmerle  Zone humide à défendre. Cette micro-aventure familiale permettra de mieux comprendre  par un jeu de pistes et d’énigmes  les enjeux de conservation des zones humides  puit de biodiversité.     Animation réalisée par la Ligue pour la Protection des Oiseaux.
DTSTAMP:20241218T102832Z
DTSTART:20250307T230000Z
DTEND:20250307T230000Z
STATUS:CONFIRMED
SEQUENCE:9
BEGIN:VALARM
TRIGGER:-PT30M
DESCRIPTION:Micro-aventure : Zone humide à défendre 
ACTION:DISPLAY
END:VALARM
END:VEVENT
END:VCALENDAR