BEGIN:VCALENDAR
VERSION:2.0
PRODID:-//Stratis iCal API//FR
CALSCALE:GREGORIAN
X-WR-CALNAME:Journée Mondiale des Zones Humides : Balade et réflexion autour de ces espaces
BEGIN:VEVENT
UID:event-4933
SUMMARY:Journée Mondiale des Zones Humides : Balade et réflexion autour de ces espaces
DESCRIPTION:Chaque année  la Journée mondiale des zones humides commémore la signature de la Convention sur les Zones Humides du 2 février 1971  dans la ville Iranienne de Ramsar au bord de la mer Caspienne. Depuis 2 ans  de nombreuses zones humides ont été impactées par les changements climatiques : tout autour de la planète  lacs  rivières  mares ou encore étangs pour ne citer qu’eux ont été fortement exposés à de longues sécheresses  diverses pollutions  ou encore à des Espèces Végétales Exotiques Envahissantes. A cette occasion  venez  lors d’une balade naturaliste avec la Ligue pour la Protection des Oiseaux comprendre les enjeux environnementaux propres à la conservation des espèces floristiques et faunistiques de l’Etang de Fontmerle.    Animation réalisée par la Ligue pour la Protection des Oiseaux.
DTSTAMP:20241218T103831Z
DTSTART:20250308T080000Z
DTEND:20250308T100000Z
STATUS:CONFIRMED
SEQUENCE:5
BEGIN:VALARM
TRIGGER:-PT30M
DESCRIPTION:Journée Mondiale des Zones Humides : Balade et réflexion autour de ces espaces
ACTION:DISPLAY
END:VALARM
END:VEVENT
END:VCALENDAR