BEGIN:VCALENDAR
VERSION:2.0
PRODID:-//Stratis iCal API//FR
CALSCALE:GREGORIAN
X-WR-CALNAME:Europétanque des Alpes-Maritimes 
BEGIN:VEVENT
UID:event-6508
SUMMARY:Europétanque des Alpes-Maritimes 
DESCRIPTION:Samedi 18 et dimanche 19 octobre  l’Europétanque revient à l’Hippodrome de la Côte d’Azur  à Cagnes-sur-Mer. Considéré comme l’un des plus grands rassemblements de pétanque de l’hexagone  l’Europétanque des Alpes-Maritimes vous convie à sa 23e édition.
DTSTAMP:20250929T093257Z
DTSTART:20251017T220000Z
DTEND:20251018T220000Z
STATUS:CONFIRMED
SEQUENCE:7
BEGIN:VALARM
TRIGGER:-PT30M
DESCRIPTION:Europétanque des Alpes-Maritimes 
ACTION:DISPLAY
END:VALARM
END:VEVENT
END:VCALENDAR