BEGIN:VCALENDAR
VERSION:2.0
PRODID:-//Stratis iCal API//FR
CALSCALE:GREGORIAN
X-WR-CALNAME:Alter ego
BEGIN:VEVENT
UID:event-7524
SUMMARY:Alter ego
DESCRIPTION:
DTSTAMP:20260420T070000Z
DTSTART:20260618T220000Z
DTEND:20260623T220000Z
STATUS:CONFIRMED
SEQUENCE:3
BEGIN:VALARM
TRIGGER:-PT30M
DESCRIPTION:Alter ego
ACTION:DISPLAY
END:VALARM
END:VEVENT
END:VCALENDAR